BEGIN:VCALENDAR
VERSION:2.0
PRODID:icalendar-ruby
CALSCALE:GREGORIAN
METHOD:PUBLISH
BEGIN:VEVENT
DTSTAMP:20260420T112956Z
UID:367-2929191@ngcclife.com
DTSTART:20260426T190000Z
DTEND:20260426T200000Z
CLASS:PUBLIC
CREATED:20260417T114725
DESCRIPTION:
LAST-MODIFIED:20260417T114725
LOCATION:
SUMMARY:Baptism Class
URL;VALUE=URI:https://www.ngcclife.com/events/baptism-class--367/2026-04-26
ATTACH;FILENAME=NGCC-BaptismClass-Slide-Apr-1920x1080.jpg;FMTTYPE=image/jpe
 g:https://dq5pwpg1q8ru0.cloudfront.net/2026/04/11/22/18/16/a3f467d2-2c65-4
 9fa-a9a6-65b5b8f2aabb/NGCC-BaptismClass-Slide-Apr-1920x1080.jpg
END:VEVENT
END:VCALENDAR
