BEGIN:VCALENDAR
VERSION:2.0
PRODID:icalendar-ruby
CALSCALE:GREGORIAN
METHOD:PUBLISH
BEGIN:VEVENT
DTSTAMP:20260424T104253Z
UID:13-2998795@ngcclife.com
DTSTART:20240526T173000Z
DTEND:20240526T183000Z
CLASS:PUBLIC
CREATED:20260423T181556
DESCRIPTION:English Service
LAST-MODIFIED:20260423T181556
LOCATION:
SUMMARY:English Worship Service
URL;VALUE=URI:https://www.ngcclife.com/events/english-worship-service--13/2
 024-05-26
END:VEVENT
END:VCALENDAR
