BEGIN:VCALENDAR
VERSION:2.0
PRODID:icalendar-ruby
CALSCALE:GREGORIAN
METHOD:PUBLISH
BEGIN:VEVENT
DTSTAMP:20260424T120729Z
UID:13-3000654@ngcclife.com
DTSTART:20240602T173000Z
DTEND:20240602T183000Z
CLASS:PUBLIC
CREATED:20260424T034341
DESCRIPTION:English Service
LAST-MODIFIED:20260424T034341
LOCATION:
SUMMARY:English Worship Service
URL;VALUE=URI:https://www.ngcclife.com/events/english-worship-service--13/2
 024-06-02
END:VEVENT
END:VCALENDAR
