BEGIN:VCALENDAR
VERSION:2.0
PRODID:icalendar-ruby
CALSCALE:GREGORIAN
METHOD:PUBLISH
BEGIN:VEVENT
DTSTAMP:20260424T154027Z
UID:13-3002514@ngcclife.com
DTSTART:20240616T173000Z
DTEND:20240616T183000Z
CLASS:PUBLIC
CREATED:20260424T063818
DESCRIPTION:English Service
LAST-MODIFIED:20260424T063818
LOCATION:
SUMMARY:English Worship Service
URL;VALUE=URI:https://www.ngcclife.com/events/english-worship-service--13/2
 024-06-16
END:VEVENT
END:VCALENDAR
