BEGIN:VCALENDAR
VERSION:2.0
PRODID:icalendar-ruby
CALSCALE:GREGORIAN
METHOD:PUBLISH
BEGIN:VEVENT
DTSTAMP:20260424T170137Z
UID:13-3004373@ngcclife.com
DTSTART:20240623T173000Z
DTEND:20240623T183000Z
CLASS:PUBLIC
CREATED:20260424T092904
DESCRIPTION:English Service
LAST-MODIFIED:20260424T092904
LOCATION:
SUMMARY:English Worship Service
URL;VALUE=URI:https://www.ngcclife.com/events/english-worship-service--13/2
 024-06-23
END:VEVENT
END:VCALENDAR
