BEGIN:VCALENDAR
VERSION:2.0
PRODID:icalendar-ruby
CALSCALE:GREGORIAN
METHOD:PUBLISH
BEGIN:VEVENT
DTSTAMP:20260424T182943Z
UID:13-3004374@ngcclife.com
DTSTART:20240630T173000Z
DTEND:20240630T183000Z
CLASS:PUBLIC
CREATED:20260424T092904
DESCRIPTION:English Service
LAST-MODIFIED:20260424T092904
LOCATION:
SUMMARY:English Worship Service
URL;VALUE=URI:https://www.ngcclife.com/events/english-worship-service--13/2
 024-06-30
END:VEVENT
END:VCALENDAR
