BEGIN:VCALENDAR
VERSION:2.0
PRODID:icalendar-ruby
CALSCALE:GREGORIAN
METHOD:PUBLISH
BEGIN:VEVENT
DTSTAMP:20260424T200538Z
UID:13-3006233@ngcclife.com
DTSTART:20240707T173000Z
DTEND:20240707T183000Z
CLASS:PUBLIC
CREATED:20260424T121455
DESCRIPTION:English Service
LAST-MODIFIED:20260424T121455
LOCATION:
SUMMARY:English Worship Service
URL;VALUE=URI:https://www.ngcclife.com/events/english-worship-service--13/2
 024-07-07
END:VEVENT
END:VCALENDAR
