BEGIN:VCALENDAR
VERSION:2.0
PRODID:icalendar-ruby
CALSCALE:GREGORIAN
METHOD:PUBLISH
BEGIN:VEVENT
DTSTAMP:20260424T231053Z
UID:13-3008093@ngcclife.com
DTSTART:20240721T173000Z
DTEND:20240721T183000Z
CLASS:PUBLIC
CREATED:20260424T150251
DESCRIPTION:English Service
LAST-MODIFIED:20260424T150251
LOCATION:
SUMMARY:English Worship Service
URL;VALUE=URI:https://www.ngcclife.com/events/english-worship-service--13/2
 024-07-21
END:VEVENT
END:VCALENDAR
