BEGIN:VCALENDAR
VERSION:2.0
PRODID:icalendar-ruby
CALSCALE:GREGORIAN
METHOD:PUBLISH
BEGIN:VEVENT
DTSTAMP:20260425T024302Z
UID:13-3009953@ngcclife.com
DTSTART:20240804T173000Z
DTEND:20240804T183000Z
CLASS:PUBLIC
CREATED:20260424T175050
DESCRIPTION:English Service
LAST-MODIFIED:20260424T175050
LOCATION:
SUMMARY:English Worship Service
URL;VALUE=URI:https://www.ngcclife.com/events/english-worship-service--13/2
 024-08-04
END:VEVENT
END:VCALENDAR
