BEGIN:VCALENDAR
VERSION:2.0
PRODID:icalendar-ruby
CALSCALE:GREGORIAN
METHOD:PUBLISH
BEGIN:VEVENT
DTSTAMP:20260425T132015Z
UID:13-3011817@ngcclife.com
DTSTART:20240915T173000Z
DTEND:20240915T183000Z
CLASS:PUBLIC
CREATED:20260425T034019
DESCRIPTION:English Service
LAST-MODIFIED:20260425T034019
LOCATION:
SUMMARY:English Worship Service
URL;VALUE=URI:https://www.ngcclife.com/events/english-worship-service--13/2
 024-09-15
END:VEVENT
END:VCALENDAR
