BEGIN:VCALENDAR
VERSION:2.0
PRODID:icalendar-ruby
CALSCALE:GREGORIAN
METHOD:PUBLISH
BEGIN:VEVENT
DTSTAMP:20260425T150024Z
UID:13-3013677@ngcclife.com
DTSTART:20240922T173000Z
DTEND:20240922T183000Z
CLASS:PUBLIC
CREATED:20260425T062153
DESCRIPTION:English Service
LAST-MODIFIED:20260425T062153
LOCATION:
SUMMARY:English Worship Service
URL;VALUE=URI:https://www.ngcclife.com/events/english-worship-service--13/2
 024-09-22
END:VEVENT
END:VCALENDAR
