BEGIN:VCALENDAR
VERSION:2.0
PRODID:icalendar-ruby
CALSCALE:GREGORIAN
METHOD:PUBLISH
BEGIN:VEVENT
DTSTAMP:20260425T165334Z
UID:13-3015537@ngcclife.com
DTSTART:20240929T173000Z
DTEND:20240929T183000Z
CLASS:PUBLIC
CREATED:20260425T090223
DESCRIPTION:English Service
LAST-MODIFIED:20260425T090223
LOCATION:
SUMMARY:English Worship Service
URL;VALUE=URI:https://www.ngcclife.com/events/english-worship-service--13/2
 024-09-29
END:VEVENT
END:VCALENDAR
