BEGIN:VCALENDAR
VERSION:2.0
PRODID:icalendar-ruby
CALSCALE:GREGORIAN
METHOD:PUBLISH
BEGIN:VEVENT
DTSTAMP:20260425T200931Z
UID:13-3017398@ngcclife.com
DTSTART:20241013T173000Z
DTEND:20241013T183000Z
CLASS:PUBLIC
CREATED:20260425T114235
DESCRIPTION:English Service
LAST-MODIFIED:20260425T114235
LOCATION:
SUMMARY:English Worship Service
URL;VALUE=URI:https://www.ngcclife.com/events/english-worship-service--13/2
 024-10-13
END:VEVENT
END:VCALENDAR
