BEGIN:VCALENDAR
VERSION:2.0
PRODID:icalendar-ruby
CALSCALE:GREGORIAN
METHOD:PUBLISH
BEGIN:VEVENT
DTSTAMP:20260425T232926Z
UID:13-3019259@ngcclife.com
DTSTART:20241027T173000Z
DTEND:20241027T183000Z
CLASS:PUBLIC
CREATED:20260425T142434
DESCRIPTION:English Service
LAST-MODIFIED:20260425T142434
LOCATION:
SUMMARY:English Worship Service
URL;VALUE=URI:https://www.ngcclife.com/events/english-worship-service--13/2
 024-10-27
END:VEVENT
END:VCALENDAR
