BEGIN:VCALENDAR
VERSION:2.0
PRODID:icalendar-ruby
CALSCALE:GREGORIAN
METHOD:PUBLISH
BEGIN:VEVENT
DTSTAMP:20260426T011931Z
UID:13-3021119@ngcclife.com
DTSTART:20241103T183000Z
DTEND:20241103T193000Z
CLASS:PUBLIC
CREATED:20260425T170746
DESCRIPTION:English Service
LAST-MODIFIED:20260425T170746
LOCATION:
SUMMARY:English Worship Service
URL;VALUE=URI:https://www.ngcclife.com/events/english-worship-service--13/2
 024-11-03
END:VEVENT
END:VCALENDAR
