BEGIN:VCALENDAR
VERSION:2.0
PRODID:icalendar-ruby
CALSCALE:GREGORIAN
METHOD:PUBLISH
BEGIN:VEVENT
DTSTAMP:20260425T024149Z
UID:223-3010730@ngcclife.com
DTSTART:20261105T030000Z
DTEND:20261105T040000Z
CLASS:PUBLIC
CREATED:20260424T175053
DESCRIPTION:
LAST-MODIFIED:20260424T175053
LOCATION:
SUMMARY:Estudio Biblico
URL;VALUE=URI:https://www.ngcclife.com/events/estudio-biblico/2026-11-04
ATTACH;FILENAME=Estudio biblico.jpg;FMTTYPE=image/jpeg:https://dq5pwpg1q8ru
 0.cloudfront.net/2024/06/12/17/34/52/50e385e3-6993-4bed-a7c4-c5e9c3107754/
 Estudio%20biblico.jpg
END:VEVENT
END:VCALENDAR
