BEGIN:VCALENDAR
VERSION:2.0
PRODID:icalendar-ruby
CALSCALE:GREGORIAN
METHOD:PUBLISH
BEGIN:VEVENT
DTSTAMP:20260421T110826Z
UID:127-2967764@ngcclife.com
DTSTART:20240222T030000Z
DTEND:20240222T040000Z
CLASS:PUBLIC
CREATED:20260421T033847
DESCRIPTION:Servicio en Español
LAST-MODIFIED:20260421T033847
LOCATION:
SUMMARY:Servicio en Español
URL;VALUE=URI:https://www.ngcclife.com/events/servicio-en-espanol--127/2024
 -02-21
END:VEVENT
END:VCALENDAR
