BEGIN:VCALENDAR
VERSION:2.0
PRODID:icalendar-ruby
CALSCALE:GREGORIAN
METHOD:PUBLISH
BEGIN:VEVENT
DTSTAMP:20260421T140432Z
UID:127-2969621@ngcclife.com
DTSTART:20240307T030000Z
DTEND:20240307T040000Z
CLASS:PUBLIC
CREATED:20260421T061443
DESCRIPTION:Servicio en Español
LAST-MODIFIED:20260421T061443
LOCATION:
SUMMARY:Servicio en Español
URL;VALUE=URI:https://www.ngcclife.com/events/servicio-en-espanol--127/2024
 -03-06
END:VEVENT
END:VCALENDAR
