BEGIN:VCALENDAR
VERSION:2.0
PRODID:icalendar-ruby
CALSCALE:GREGORIAN
METHOD:PUBLISH
BEGIN:VEVENT
DTSTAMP:20260421T180249Z
UID:127-2971479@ngcclife.com
DTSTART:20240328T020000Z
DTEND:20240328T030000Z
CLASS:PUBLIC
CREATED:20260421T085134
DESCRIPTION:Servicio en Español
LAST-MODIFIED:20260421T085134
LOCATION:
SUMMARY:Servicio en Español
URL;VALUE=URI:https://www.ngcclife.com/events/servicio-en-espanol--127/2024
 -03-27
END:VEVENT
END:VCALENDAR
