BEGIN:VCALENDAR
VERSION:2.0
PRODID:icalendar-ruby
CALSCALE:GREGORIAN
METHOD:PUBLISH
BEGIN:VEVENT
DTSTAMP:20260421T194327Z
UID:127-2973335@ngcclife.com
DTSTART:20240404T020000Z
DTEND:20240404T030000Z
CLASS:PUBLIC
CREATED:20260421T113037
DESCRIPTION:Servicio en Español
LAST-MODIFIED:20260421T113037
LOCATION:
SUMMARY:Servicio en Español
URL;VALUE=URI:https://www.ngcclife.com/events/servicio-en-espanol--127/2024
 -04-03
END:VEVENT
END:VCALENDAR
