BEGIN:VCALENDAR
VERSION:2.0
PRODID:icalendar-ruby
CALSCALE:GREGORIAN
METHOD:PUBLISH
BEGIN:VEVENT
DTSTAMP:20260421T210901Z
UID:127-2975191@ngcclife.com
DTSTART:20240411T020000Z
DTEND:20240411T030000Z
CLASS:PUBLIC
CREATED:20260421T140707
DESCRIPTION:Servicio en Español
LAST-MODIFIED:20260421T140707
LOCATION:
SUMMARY:Servicio en Español
URL;VALUE=URI:https://www.ngcclife.com/events/servicio-en-espanol--127/2024
 -04-10
END:VEVENT
END:VCALENDAR
