BEGIN:VCALENDAR
VERSION:2.0
PRODID:icalendar-ruby
CALSCALE:GREGORIAN
METHOD:PUBLISH
BEGIN:VEVENT
DTSTAMP:20260423T094221Z
UID:127-2988177@ngcclife.com
DTSTART:20240418T020000Z
DTEND:20240418T030000Z
CLASS:PUBLIC
CREATED:20260422T181405
DESCRIPTION:Servicio en Español
LAST-MODIFIED:20260422T181405
LOCATION:
SUMMARY:Servicio en Español
URL;VALUE=URI:https://www.ngcclife.com/events/servicio-en-espanol--127/2024
 -04-17
END:VEVENT
END:VCALENDAR
