BEGIN:VCALENDAR
VERSION:2.0
PRODID:icalendar-ruby
CALSCALE:GREGORIAN
METHOD:PUBLISH
BEGIN:VEVENT
DTSTAMP:20260423T111721Z
UID:127-2990034@ngcclife.com
DTSTART:20240425T020000Z
DTEND:20240425T030000Z
CLASS:PUBLIC
CREATED:20260423T034312
DESCRIPTION:Servicio en Español
LAST-MODIFIED:20260423T034312
LOCATION:
SUMMARY:Servicio en Español
URL;VALUE=URI:https://www.ngcclife.com/events/servicio-en-espanol--127/2024
 -04-24
END:VEVENT
END:VCALENDAR
