BEGIN:VCALENDAR
VERSION:2.0
PRODID:icalendar-ruby
CALSCALE:GREGORIAN
METHOD:PUBLISH
BEGIN:VEVENT
DTSTAMP:20260425T132236Z
UID:127-3014193@ngcclife.com
DTSTART:20240516T020000Z
DTEND:20240516T030000Z
CLASS:PUBLIC
CREATED:20260425T062154
DESCRIPTION:Servicio en Español
LAST-MODIFIED:20260425T062154
LOCATION:
SUMMARY:Servicio en Español
URL;VALUE=URI:https://www.ngcclife.com/events/servicio-en-espanol--127/2024
 -05-15
END:VEVENT
END:VCALENDAR
