BEGIN:VCALENDAR
VERSION:2.0
PRODID:icalendar-ruby
CALSCALE:GREGORIAN
METHOD:PUBLISH
BEGIN:VEVENT
DTSTAMP:20260425T163052Z
UID:127-3016054@ngcclife.com
DTSTART:20240530T020000Z
DTEND:20240530T030000Z
CLASS:PUBLIC
CREATED:20260425T090224
DESCRIPTION:Servicio en Español
LAST-MODIFIED:20260425T090224
LOCATION:
SUMMARY:Servicio en Español
URL;VALUE=URI:https://www.ngcclife.com/events/servicio-en-espanol--127/2024
 -05-29
END:VEVENT
END:VCALENDAR
