BEGIN:VCALENDAR
VERSION:2.0
PRODID:icalendar-ruby
CALSCALE:GREGORIAN
METHOD:PUBLISH
BEGIN:VEVENT
DTSTAMP:20260426T025725Z
UID:127-3021637@ngcclife.com
DTSTART:20240711T020000Z
DTEND:20240711T030000Z
CLASS:PUBLIC
CREATED:20260425T170748
DESCRIPTION:Servicio en Español
LAST-MODIFIED:20260425T170748
LOCATION:
SUMMARY:Servicio en Español
URL;VALUE=URI:https://www.ngcclife.com/events/servicio-en-espanol--127/2024
 -07-10
END:VEVENT
END:VCALENDAR
